BEGIN:VCALENDAR
VERSION:2.0
PRODID:-//York County Kennel Club of Maine - ECPv6.15.20//NONSGML v1.0//EN
CALSCALE:GREGORIAN
METHOD:PUBLISH
X-WR-CALNAME:York County Kennel Club of Maine
X-ORIGINAL-URL:https://yckcmaine.org
X-WR-CALDESC:Events for York County Kennel Club of Maine
REFRESH-INTERVAL;VALUE=DURATION:PT1H
X-Robots-Tag:noindex
X-PUBLISHED-TTL:PT1H
BEGIN:VTIMEZONE
TZID:America/New_York
BEGIN:DAYLIGHT
TZOFFSETFROM:-0500
TZOFFSETTO:-0400
TZNAME:EDT
DTSTART:20250309T070000
END:DAYLIGHT
BEGIN:STANDARD
TZOFFSETFROM:-0400
TZOFFSETTO:-0500
TZNAME:EST
DTSTART:20251102T060000
END:STANDARD
BEGIN:DAYLIGHT
TZOFFSETFROM:-0500
TZOFFSETTO:-0400
TZNAME:EDT
DTSTART:20260308T070000
END:DAYLIGHT
BEGIN:STANDARD
TZOFFSETFROM:-0400
TZOFFSETTO:-0500
TZNAME:EST
DTSTART:20261101T060000
END:STANDARD
BEGIN:DAYLIGHT
TZOFFSETFROM:-0500
TZOFFSETTO:-0400
TZNAME:EDT
DTSTART:20270314T070000
END:DAYLIGHT
BEGIN:STANDARD
TZOFFSETFROM:-0400
TZOFFSETTO:-0500
TZNAME:EST
DTSTART:20271107T060000
END:STANDARD
END:VTIMEZONE
BEGIN:VEVENT
DTSTART;VALUE=DATE:20260606
DTEND;VALUE=DATE:20260608
DTSTAMP:20260417T214051
CREATED:20260112T194135Z
LAST-MODIFIED:20260304T233030Z
UID:395-1780704000-1780876799@yckcmaine.org
SUMMARY:Obedience/Rally Trials
DESCRIPTION:We are delighted to hold our 47th and 48th Obedience Trial and our 41st and 42nd Rally trial indoors again at Happy Tails in Portland.  Our trials have received many accolades from exhibitors and judges\, and we are pleased to keep  those compliments coming again this year at our June obedience and rally trials Entries for our June trials open April 22\, 2026 (see flyer.)  We will post the link to the Premium List here and on our Facebook pages:  York County Kennel Club of Maine (Private page\,) York County Kennel Club of Maine (Community page)  when it is available.  You can also get more information at this time by going to AKC’s Event Search site. So\, mark your calendars for our June 6 and 7\, 2026 trials and come join us.  Our members are on board to help make your trialing experience a pleasant one. \nYCKC June 2026 Premium List
URL:https://yckcmaine.org/event/obedience-rally-trials/
LOCATION:119 Bishop St.\, Portland\, ME 04109\, 119 Bishop Street\, Portland\, ME\, 04103\, United States
CATEGORIES:Obedience/Rally
ATTACH;FMTTYPE=image/png:https://yckcmaine.org/wp-content/uploads/2026/01/yckc-rally-ob-flyer-2026-003.png
END:VEVENT
END:VCALENDAR