BEGIN:VCALENDAR
VERSION:2.0
PRODID:-//York County Kennel Club of Maine - ECPv6.15.20//NONSGML v1.0//EN
CALSCALE:GREGORIAN
METHOD:PUBLISH
X-WR-CALNAME:York County Kennel Club of Maine
X-ORIGINAL-URL:https://yckcmaine.org
X-WR-CALDESC:Events for York County Kennel Club of Maine
REFRESH-INTERVAL;VALUE=DURATION:PT1H
X-Robots-Tag:noindex
X-PUBLISHED-TTL:PT1H
BEGIN:VTIMEZONE
TZID:America/New_York
BEGIN:DAYLIGHT
TZOFFSETFROM:-0500
TZOFFSETTO:-0400
TZNAME:EDT
DTSTART:20250309T070000
END:DAYLIGHT
BEGIN:STANDARD
TZOFFSETFROM:-0400
TZOFFSETTO:-0500
TZNAME:EST
DTSTART:20251102T060000
END:STANDARD
BEGIN:DAYLIGHT
TZOFFSETFROM:-0500
TZOFFSETTO:-0400
TZNAME:EDT
DTSTART:20260308T070000
END:DAYLIGHT
BEGIN:STANDARD
TZOFFSETFROM:-0400
TZOFFSETTO:-0500
TZNAME:EST
DTSTART:20261101T060000
END:STANDARD
BEGIN:DAYLIGHT
TZOFFSETFROM:-0500
TZOFFSETTO:-0400
TZNAME:EDT
DTSTART:20270314T070000
END:DAYLIGHT
BEGIN:STANDARD
TZOFFSETFROM:-0400
TZOFFSETTO:-0500
TZNAME:EST
DTSTART:20271107T060000
END:STANDARD
END:VTIMEZONE
BEGIN:VEVENT
DTSTART;TZID=America/New_York:20260506T190000
DTEND;TZID=America/New_York:20260506T200000
DTSTAMP:20260419T135405
CREATED:20260127T042748Z
LAST-MODIFIED:20260127T042748Z
UID:607-1778094000-1778097600@yckcmaine.org
SUMMARY:Board Meeting
DESCRIPTION:
URL:https://yckcmaine.org/event/board-meeting/
LOCATION:Zoom
CATEGORIES:Meeting
END:VEVENT
BEGIN:VEVENT
DTSTART;VALUE=DATE:20260516
DTEND;VALUE=DATE:20260518
DTSTAMP:20260419T135405
CREATED:20260306T013329Z
LAST-MODIFIED:20260306T113205Z
UID:814-1778889600-1779062399@yckcmaine.org
SUMMARY:FastCat
DESCRIPTION:Premimum List
URL:https://yckcmaine.org/event/fastcat/
LOCATION:American K-9 Country\, 336 State Rte 101\, Amherst\, NH\, 03031\, United States
CATEGORIES:FastCat
END:VEVENT
BEGIN:VEVENT
DTSTART;VALUE=DATE:20260516
DTEND;VALUE=DATE:20260518
DTSTAMP:20260419T135405
CREATED:20260104T224636Z
LAST-MODIFIED:20260325T121325Z
UID:37-1778889600-1779062399@yckcmaine.org
SUMMARY:Conformation Show
DESCRIPTION:We are busy getting ready to put on a great May Show for our exhibitors.\nThe Puppy Extravaganza will be Saturday along with Canine Good Citizen tests.\nOn Sunday we will be showcasing Breed Heritage Day along with a Pee Wee competition for all new exhibitors just waiting to grow into master conformation handlers.\nWe’re also offering New Title Rosettes for new Champions and a ring side Tray Service. \nEntries open March 25 and close April 29. See you in May! \nClick to view our Premium List.
URL:https://yckcmaine.org/event/conformation-show/
LOCATION:Cumberland Fair\, 174 Bruce Hill Road\, Cumberland\, ME\, 04021\, United States
CATEGORIES:Conformation
END:VEVENT
BEGIN:VEVENT
DTSTART;TZID=America/New_York:20260525T190000
DTEND;TZID=America/New_York:20260525T200000
DTSTAMP:20260419T135405
CREATED:20260127T042224Z
LAST-MODIFIED:20260127T042224Z
UID:597-1779735600-1779739200@yckcmaine.org
SUMMARY:Membership Meeting
DESCRIPTION:
URL:https://yckcmaine.org/event/membership-meeting-4/
LOCATION:Zoom
CATEGORIES:Meeting
END:VEVENT
END:VCALENDAR