BEGIN:VCALENDAR
VERSION:2.0
PRODID:-//York County Kennel Club of Maine - ECPv6.15.20//NONSGML v1.0//EN
CALSCALE:GREGORIAN
METHOD:PUBLISH
X-ORIGINAL-URL:https://yckcmaine.org
X-WR-CALDESC:Events for York County Kennel Club of Maine
REFRESH-INTERVAL;VALUE=DURATION:PT1H
X-Robots-Tag:noindex
X-PUBLISHED-TTL:PT1H
BEGIN:VTIMEZONE
TZID:America/New_York
BEGIN:DAYLIGHT
TZOFFSETFROM:-0500
TZOFFSETTO:-0400
TZNAME:EDT
DTSTART:20250309T070000
END:DAYLIGHT
BEGIN:STANDARD
TZOFFSETFROM:-0400
TZOFFSETTO:-0500
TZNAME:EST
DTSTART:20251102T060000
END:STANDARD
BEGIN:DAYLIGHT
TZOFFSETFROM:-0500
TZOFFSETTO:-0400
TZNAME:EDT
DTSTART:20260308T070000
END:DAYLIGHT
BEGIN:STANDARD
TZOFFSETFROM:-0400
TZOFFSETTO:-0500
TZNAME:EST
DTSTART:20261101T060000
END:STANDARD
BEGIN:DAYLIGHT
TZOFFSETFROM:-0500
TZOFFSETTO:-0400
TZNAME:EDT
DTSTART:20270314T070000
END:DAYLIGHT
BEGIN:STANDARD
TZOFFSETFROM:-0400
TZOFFSETTO:-0500
TZNAME:EST
DTSTART:20271107T060000
END:STANDARD
END:VTIMEZONE
BEGIN:VEVENT
DTSTART;TZID=America/New_York:20260805T190000
DTEND;TZID=America/New_York:20260805T200000
DTSTAMP:20260416T153238
CREATED:20260127T042837Z
LAST-MODIFIED:20260127T042837Z
UID:609-1785956400-1785960000@yckcmaine.org
SUMMARY:Board Meeting
DESCRIPTION:
URL:https://yckcmaine.org/event/board-meeting-2/
LOCATION:Zoom
CATEGORIES:Meeting
END:VEVENT
BEGIN:VEVENT
DTSTART;TZID=America/New_York:20260831T190000
DTEND;TZID=America/New_York:20260831T200000
DTSTAMP:20260416T153238
CREATED:20260127T042425Z
LAST-MODIFIED:20260127T042425Z
UID:601-1788202800-1788206400@yckcmaine.org
SUMMARY:Membership Meeting
DESCRIPTION:
URL:https://yckcmaine.org/event/membership-meeting-6/
LOCATION:Zoom
CATEGORIES:Meeting
END:VEVENT
END:VCALENDAR